BEGIN:VCALENDAR
VERSION:2.0
PRODID:-//Blackberry Ridge Golf Club - ECPv6.15.20//NONSGML v1.0//EN
CALSCALE:GREGORIAN
METHOD:PUBLISH
X-ORIGINAL-URL:https://blackberryridgegolf.com
X-WR-CALDESC:Events for Blackberry Ridge Golf Club
REFRESH-INTERVAL;VALUE=DURATION:PT1H
X-Robots-Tag:noindex
X-PUBLISHED-TTL:PT1H
BEGIN:VTIMEZONE
TZID:America/Chicago
BEGIN:DAYLIGHT
TZOFFSETFROM:-0600
TZOFFSETTO:-0500
TZNAME:CDT
DTSTART:20230312T080000
END:DAYLIGHT
BEGIN:STANDARD
TZOFFSETFROM:-0500
TZOFFSETTO:-0600
TZNAME:CST
DTSTART:20231105T070000
END:STANDARD
BEGIN:DAYLIGHT
TZOFFSETFROM:-0600
TZOFFSETTO:-0500
TZNAME:CDT
DTSTART:20240310T080000
END:DAYLIGHT
BEGIN:STANDARD
TZOFFSETFROM:-0500
TZOFFSETTO:-0600
TZNAME:CST
DTSTART:20241103T070000
END:STANDARD
BEGIN:DAYLIGHT
TZOFFSETFROM:-0600
TZOFFSETTO:-0500
TZNAME:CDT
DTSTART:20250309T080000
END:DAYLIGHT
BEGIN:STANDARD
TZOFFSETFROM:-0500
TZOFFSETTO:-0600
TZNAME:CST
DTSTART:20251102T070000
END:STANDARD
END:VTIMEZONE
BEGIN:VEVENT
DTSTART;TZID=America/Chicago:20240730T090000
DTEND;TZID=America/Chicago:20240730T123000
DTSTAMP:20260419T083739
CREATED:20240523T213020Z
LAST-MODIFIED:20240523T213020Z
UID:10000085-1722330000-1722342600@blackberryridgegolf.com
SUMMARY:Junior Camp-Program 1
DESCRIPTION:9:00-10:00 Birdies \n10:15-11:15 Eagles \n11:30-12:30 Albatross
URL:https://blackberryridgegolf.com/event-calendar/junior-camp-program-1-4/
LOCATION:Blackberry Ridge Golf Club\, 3125 Clubhouse Road\, Sartell\, 56377\, United States
END:VEVENT
END:VCALENDAR