BEGIN:VCALENDAR
VERSION:2.0
PRODID:-//Blackberry Ridge Golf Club - ECPv6.15.20//NONSGML v1.0//EN
CALSCALE:GREGORIAN
METHOD:PUBLISH
X-WR-CALNAME:Blackberry Ridge Golf Club
X-ORIGINAL-URL:https://blackberryridgegolf.com
X-WR-CALDESC:Events for Blackberry Ridge Golf Club
REFRESH-INTERVAL;VALUE=DURATION:PT1H
X-Robots-Tag:noindex
X-PUBLISHED-TTL:PT1H
BEGIN:VTIMEZONE
TZID:America/Chicago
BEGIN:DAYLIGHT
TZOFFSETFROM:-0600
TZOFFSETTO:-0500
TZNAME:CDT
DTSTART:20230312T080000
END:DAYLIGHT
BEGIN:STANDARD
TZOFFSETFROM:-0500
TZOFFSETTO:-0600
TZNAME:CST
DTSTART:20231105T070000
END:STANDARD
BEGIN:DAYLIGHT
TZOFFSETFROM:-0600
TZOFFSETTO:-0500
TZNAME:CDT
DTSTART:20240310T080000
END:DAYLIGHT
BEGIN:STANDARD
TZOFFSETFROM:-0500
TZOFFSETTO:-0600
TZNAME:CST
DTSTART:20241103T070000
END:STANDARD
BEGIN:DAYLIGHT
TZOFFSETFROM:-0600
TZOFFSETTO:-0500
TZNAME:CDT
DTSTART:20250309T080000
END:DAYLIGHT
BEGIN:STANDARD
TZOFFSETFROM:-0500
TZOFFSETTO:-0600
TZNAME:CST
DTSTART:20251102T070000
END:STANDARD
END:VTIMEZONE
BEGIN:VEVENT
DTSTART;TZID=America/Chicago:20240805T110000
DTEND;TZID=America/Chicago:20240805T170000
DTSTAMP:20260423T033835
CREATED:20240523T213300Z
LAST-MODIFIED:20240523T213300Z
UID:10000088-1722855600-1722877200@blackberryridgegolf.com
SUMMARY:Sartell Baseball Tournament
DESCRIPTION:
URL:https://blackberryridgegolf.com/event-calendar/sartell-baseball-tournament/
LOCATION:Blackberry Ridge Golf Club\, 3125 Clubhouse Road\, Sartell\, 56377\, United States
END:VEVENT
BEGIN:VEVENT
DTSTART;TZID=America/Chicago:20240806T090000
DTEND;TZID=America/Chicago:20240806T123000
DTSTAMP:20260423T033835
CREATED:20240523T213450Z
LAST-MODIFIED:20240523T213450Z
UID:10000089-1722934800-1722947400@blackberryridgegolf.com
SUMMARY:Junior Camp-Program 1
DESCRIPTION:9:00-10:00 Birdies \n10:15-11:15 Eagles \n11:30-12:30 Albatross
URL:https://blackberryridgegolf.com/event-calendar/junior-camp-program-1-5/
LOCATION:Blackberry Ridge Golf Club\, 3125 Clubhouse Road\, Sartell\, 56377\, United States
END:VEVENT
BEGIN:VEVENT
DTSTART;TZID=America/Chicago:20240808T090000
DTEND;TZID=America/Chicago:20240808T130000
DTSTAMP:20260423T033835
CREATED:20240523T213627Z
LAST-MODIFIED:20240523T213627Z
UID:10000090-1723107600-1723122000@blackberryridgegolf.com
SUMMARY:Junior Camp-Program 2
DESCRIPTION:9:00-10:00 Birdies \n10:15-11:15 Eagles \n11:30-12:30 Albatross \n11:45-12:45 Mini Masters
URL:https://blackberryridgegolf.com/event-calendar/junior-camp-program-2-4/
LOCATION:Blackberry Ridge Golf Club\, 3125 Clubhouse Road\, Sartell\, 56377\, United States
END:VEVENT
BEGIN:VEVENT
DTSTART;TZID=America/Chicago:20240810T080000
DTEND;TZID=America/Chicago:20240810T150000
DTSTAMP:20260423T033835
CREATED:20240523T213718Z
LAST-MODIFIED:20240523T213718Z
UID:10000091-1723276800-1723302000@blackberryridgegolf.com
SUMMARY:Dezurik Tournament
DESCRIPTION:
URL:https://blackberryridgegolf.com/event-calendar/dezurik-tournament/
LOCATION:Blackberry Ridge Golf Club\, 3125 Clubhouse Road\, Sartell\, 56377\, United States
END:VEVENT
END:VCALENDAR